BEGIN:VCALENDAR
VERSION:2.0
PRODID:spatie/icalendar-generator
DESCRIPTION:北千住の黄土よもぎ蒸しサロンMii（ミー）のイ
 ベント
X-WR-CALDESC:北千住の黄土よもぎ蒸しサロンMii（ミー）の
 イベント
REFRESH-INTERVAL;VALUE=DURATION:PT1440M
X-PUBLISHED-TTL:PT1440M
BEGIN:VTIMEZONE
TZID:Asia/Tokyo
BEGIN:STANDARD
DTSTART:20250704T000000Z
TZOFFSETFROM:+0900
TZOFFSETTO:+0900
END:STANDARD
END:VTIMEZONE
BEGIN:VTIMEZONE
TZID:UTC
BEGIN:STANDARD
DTSTART:20250727T110738Z
TZOFFSETFROM:+0000
TZOFFSETTO:+0000
END:STANDARD
END:VTIMEZONE
BEGIN:VEVENT
UID:46-38
DTSTAMP:20260423T110738Z
SUMMARY:店休日
LOCATION:
ORGANIZER;CN=mii:MAILTO:okamoto@salon-hansoku.com
DTSTART;TZID=Asia/Tokyo;VALUE=DATE:20260331
DTEND;TZID=Asia/Tokyo;VALUE=DATE:20260401
X-ALT-DESC;FMTTYPE=TEXT/HTML:
CATEGORIES:holiday
URL;VALUE=URI:https://yomogisalon-mii.com/mc-events/%e5%ba%97%e4%bc%91%e6%9
 7%a5-9/?mc_id=46
METHOD:PUBLISH
END:VEVENT
END:VCALENDAR